BEGIN:VCALENDAR
VERSION:2.0
PRODID:-//Corry Public Library - ECPv6.15.20//NONSGML v1.0//EN
CALSCALE:GREGORIAN
METHOD:PUBLISH
X-WR-CALNAME:Corry Public Library
X-ORIGINAL-URL:http://corrylibrary.org
X-WR-CALDESC:Events for Corry Public Library
REFRESH-INTERVAL;VALUE=DURATION:PT1H
X-Robots-Tag:noindex
X-PUBLISHED-TTL:PT1H
BEGIN:VTIMEZONE
TZID:America/New_York
BEGIN:DAYLIGHT
TZOFFSETFROM:-0500
TZOFFSETTO:-0400
TZNAME:EDT
DTSTART:20230312T070000
END:DAYLIGHT
BEGIN:STANDARD
TZOFFSETFROM:-0400
TZOFFSETTO:-0500
TZNAME:EST
DTSTART:20231105T060000
END:STANDARD
BEGIN:DAYLIGHT
TZOFFSETFROM:-0500
TZOFFSETTO:-0400
TZNAME:EDT
DTSTART:20240310T070000
END:DAYLIGHT
BEGIN:STANDARD
TZOFFSETFROM:-0400
TZOFFSETTO:-0500
TZNAME:EST
DTSTART:20241103T060000
END:STANDARD
BEGIN:DAYLIGHT
TZOFFSETFROM:-0500
TZOFFSETTO:-0400
TZNAME:EDT
DTSTART:20250309T070000
END:DAYLIGHT
BEGIN:STANDARD
TZOFFSETFROM:-0400
TZOFFSETTO:-0500
TZNAME:EST
DTSTART:20251102T060000
END:STANDARD
END:VTIMEZONE
BEGIN:VEVENT
DTSTART;TZID=America/New_York:20240202T080000
DTEND;TZID=America/New_York:20240202T170000
DTSTAMP:20260421T045908
CREATED:20240202T142158Z
LAST-MODIFIED:20240202T142158Z
UID:26699-1706860800-1706893200@corrylibrary.org
SUMMARY:Adventure Club Confections Class
DESCRIPTION:February 13 for ages 8-13\, 6-7pm can learn to make confections.  Participation is limited\, so register today in the Children’s Dept.
URL:http://corrylibrary.org/event/adventure-club-confections-class/
ATTACH;FMTTYPE=image/jpeg:http://corrylibrary.org/wp-content/uploads/2024/02/confections.jpeg
END:VEVENT
BEGIN:VEVENT
DTSTART;TZID=America/New_York:20240203T101500
DTEND;TZID=America/New_York:20240203T130000
DTSTAMP:20260421T045908
CREATED:20240201T135437Z
LAST-MODIFIED:20240201T135437Z
UID:26686-1706955300-1706965200@corrylibrary.org
SUMMARY:Take Your Child to the Library Day
DESCRIPTION:Saturday\, February 3 for all ages! \n10:15 Music in Motion \n10:45 Storytime \n11:00-Noon Therapy Dog and Working Dog (Owners and their dogs will be talking about what their dogs do and what they do to train their dogs) \nNoon -1:00 Movies on the Magic Wall and popcorn. \nColor your own bookmark \nFor adults- relaxation coloring available \nAll Children who attend will receive a free book!!
URL:http://corrylibrary.org/event/take-your-child-to-the-library-day/
END:VEVENT
BEGIN:VEVENT
DTSTART;TZID=America/New_York:20240208T180000
DTEND;TZID=America/New_York:20240208T190000
DTSTAMP:20260421T045908
CREATED:20240201T135831Z
LAST-MODIFIED:20240201T135831Z
UID:26691-1707415200-1707418800@corrylibrary.org
SUMMARY:February Teen Night
DESCRIPTION:Chocolate Mania! \nRegistation is required. Please call the library to sign up.
URL:http://corrylibrary.org/event/february-teen-night/
END:VEVENT
BEGIN:VEVENT
DTSTART;TZID=America/New_York:20240215T180000
DTEND;TZID=America/New_York:20240215T190000
DTSTAMP:20260421T045908
CREATED:20240201T135654Z
LAST-MODIFIED:20240201T135654Z
UID:26689-1708020000-1708023600@corrylibrary.org
SUMMARY:Mis Arden of Magnolia Grove
DESCRIPTION:
URL:http://corrylibrary.org/event/mis-arden-of-magnolia-grove/
END:VEVENT
BEGIN:VEVENT
DTSTART;TZID=America/New_York:20240215T190000
DTEND;TZID=America/New_York:20240215T200000
DTSTAMP:20260421T045908
CREATED:20221215T170917Z
LAST-MODIFIED:20240201T140046Z
UID:26385-1708023600-1708027200@corrylibrary.org
SUMMARY:Book Club
DESCRIPTION:The Corry Public Library hosts a book club on the third Thursday of the month. \nThis month’s book is The Lincoln Highway by Armor Towles  \nFor more information call the library. 814-664-7611
URL:http://corrylibrary.org/event/book-club/
CATEGORIES:Adults
END:VEVENT
BEGIN:VEVENT
DTSTART;TZID=America/New_York:20240216T140000
DTEND;TZID=America/New_York:20240216T150000
DTSTAMP:20260421T045908
CREATED:20240109T182121Z
LAST-MODIFIED:20240201T135534Z
UID:26671-1708092000-1708095600@corrylibrary.org
SUMMARY:Miss Arden of Magnolia Grove
DESCRIPTION:New yearlong program. Takes place every third Thursday of the month at 2pm and 6pm. Free of charge.
URL:http://corrylibrary.org/event/miss-arden-of-magnolia-grove/
CATEGORIES:Adults
END:VEVENT
BEGIN:VEVENT
DTSTART;TZID=America/New_York:20240222T140000
DTEND;TZID=America/New_York:20240222T160000
DTSTAMP:20260421T045908
CREATED:20240201T170403Z
LAST-MODIFIED:20240201T170403Z
UID:26694-1708610400-1708617600@corrylibrary.org
SUMMARY:Craft Corner
DESCRIPTION:We will be making a trivet from clothespins. \nPre-Registration is required. \nCall 814-664-7611 for registration oe more information.
URL:http://corrylibrary.org/event/craft-corner/
END:VEVENT
END:VCALENDAR