BEGIN:VCALENDAR
VERSION:2.0
PRODID:-//Corry Public Library - ECPv6.15.20//NONSGML v1.0//EN
CALSCALE:GREGORIAN
METHOD:PUBLISH
X-WR-CALNAME:Corry Public Library
X-ORIGINAL-URL:http://corrylibrary.org
X-WR-CALDESC:Events for Corry Public Library
REFRESH-INTERVAL;VALUE=DURATION:PT1H
X-Robots-Tag:noindex
X-PUBLISHED-TTL:PT1H
BEGIN:VTIMEZONE
TZID:America/New_York
BEGIN:DAYLIGHT
TZOFFSETFROM:-0500
TZOFFSETTO:-0400
TZNAME:EDT
DTSTART:20230312T070000
END:DAYLIGHT
BEGIN:STANDARD
TZOFFSETFROM:-0400
TZOFFSETTO:-0500
TZNAME:EST
DTSTART:20231105T060000
END:STANDARD
BEGIN:DAYLIGHT
TZOFFSETFROM:-0500
TZOFFSETTO:-0400
TZNAME:EDT
DTSTART:20240310T070000
END:DAYLIGHT
BEGIN:STANDARD
TZOFFSETFROM:-0400
TZOFFSETTO:-0500
TZNAME:EST
DTSTART:20241103T060000
END:STANDARD
BEGIN:DAYLIGHT
TZOFFSETFROM:-0500
TZOFFSETTO:-0400
TZNAME:EDT
DTSTART:20250309T070000
END:DAYLIGHT
BEGIN:STANDARD
TZOFFSETFROM:-0400
TZOFFSETTO:-0500
TZNAME:EST
DTSTART:20251102T060000
END:STANDARD
END:VTIMEZONE
BEGIN:VEVENT
DTSTART;TZID=America/New_York:20241119T103000
DTEND;TZID=America/New_York:20241119T110000
DTSTAMP:20260425T063149
CREATED:20241112T195837Z
LAST-MODIFIED:20241112T195837Z
UID:26947-1732012200-1732014000@corrylibrary.org
SUMMARY:Storytime- Big Book!
DESCRIPTION:Join us November 19th @ 10:30 for a Big Book Storytime! We will be reading The Door Bell Rang by Pat Hutchins! Followed after the story will be a fun craft!
URL:http://corrylibrary.org/event/storytime-big-book/
CATEGORIES:Babies,Books,Children & Youth,Crafts & Activities,preschool
END:VEVENT
BEGIN:VEVENT
DTSTART;TZID=America/New_York:20241118T103000
DTEND;TZID=America/New_York:20241118T110000
DTSTAMP:20260425T063149
CREATED:20241112T202907Z
LAST-MODIFIED:20241112T202907Z
UID:26961-1731925800-1731927600@corrylibrary.org
SUMMARY:Baby Boogie!
DESCRIPTION:Join Ms. Brittany every Monday at 10:30 for a movements and motions class! We dance to the beat and even play with a few instruments along the way! It is a sure way to get your baby or toddler up and moving for the day! Ages 6 months and up are welcome to join!
URL:http://corrylibrary.org/event/baby-boogie-3/
CATEGORIES:Babies,Music & Dance
END:VEVENT
END:VCALENDAR