BEGIN:VCALENDAR
VERSION:2.0
PRODID:-//Corry Public Library - ECPv6.15.20//NONSGML v1.0//EN
CALSCALE:GREGORIAN
METHOD:PUBLISH
X-ORIGINAL-URL:http://corrylibrary.org
X-WR-CALDESC:Events for Corry Public Library
REFRESH-INTERVAL;VALUE=DURATION:PT1H
X-Robots-Tag:noindex
X-PUBLISHED-TTL:PT1H
BEGIN:VTIMEZONE
TZID:America/New_York
BEGIN:DAYLIGHT
TZOFFSETFROM:-0500
TZOFFSETTO:-0400
TZNAME:EDT
DTSTART:20230312T070000
END:DAYLIGHT
BEGIN:STANDARD
TZOFFSETFROM:-0400
TZOFFSETTO:-0500
TZNAME:EST
DTSTART:20231105T060000
END:STANDARD
BEGIN:DAYLIGHT
TZOFFSETFROM:-0500
TZOFFSETTO:-0400
TZNAME:EDT
DTSTART:20240310T070000
END:DAYLIGHT
BEGIN:STANDARD
TZOFFSETFROM:-0400
TZOFFSETTO:-0500
TZNAME:EST
DTSTART:20241103T060000
END:STANDARD
BEGIN:DAYLIGHT
TZOFFSETFROM:-0500
TZOFFSETTO:-0400
TZNAME:EDT
DTSTART:20250309T070000
END:DAYLIGHT
BEGIN:STANDARD
TZOFFSETFROM:-0400
TZOFFSETTO:-0500
TZNAME:EST
DTSTART:20251102T060000
END:STANDARD
END:VTIMEZONE
BEGIN:VEVENT
DTSTART;TZID=America/New_York:20240610T103000
DTEND;TZID=America/New_York:20240730T110000
DTSTAMP:20260421T180906
CREATED:20240513T185620Z
LAST-MODIFIED:20240607T122551Z
UID:26778-1718015400-1722337200@corrylibrary.org
SUMMARY:Baby Boogie!
DESCRIPTION:Join us for a music and motions class! Ages 6 months and up welcome!
URL:http://corrylibrary.org/event/baby-boogie-2/
LOCATION:Corry Public Library\, 117 W Washington St\, Corry\, PA\, 16407\, United States
END:VEVENT
BEGIN:VEVENT
DTSTART;TZID=America/New_York:20240611T180000
DTEND;TZID=America/New_York:20240611T190000
DTSTAMP:20260421T180906
CREATED:20240607T124457Z
LAST-MODIFIED:20240607T124457Z
UID:26799-1718128800-1718132400@corrylibrary.org
SUMMARY:Adventure Club
DESCRIPTION:Registration Required\, ages 8-13 @ 6pm
URL:http://corrylibrary.org/event/adventure-club-2/
END:VEVENT
END:VCALENDAR